BEGIN:VCALENDAR
VERSION:2.0
PRODID:-//Community Action Network - ECPv6.15.20//NONSGML v1.0//EN
CALSCALE:GREGORIAN
METHOD:PUBLISH
X-WR-CALNAME:Community Action Network
X-ORIGINAL-URL:https://can100.org
X-WR-CALDESC:Events for Community Action Network
REFRESH-INTERVAL;VALUE=DURATION:PT1H
X-Robots-Tag:noindex
X-PUBLISHED-TTL:PT1H
BEGIN:VTIMEZONE
TZID:Europe/London
BEGIN:DAYLIGHT
TZOFFSETFROM:+0000
TZOFFSETTO:+0100
TZNAME:BST
DTSTART:20250330T010000
END:DAYLIGHT
BEGIN:STANDARD
TZOFFSETFROM:+0100
TZOFFSETTO:+0000
TZNAME:GMT
DTSTART:20251026T010000
END:STANDARD
BEGIN:DAYLIGHT
TZOFFSETFROM:+0000
TZOFFSETTO:+0100
TZNAME:BST
DTSTART:20260329T010000
END:DAYLIGHT
BEGIN:STANDARD
TZOFFSETFROM:+0100
TZOFFSETTO:+0000
TZNAME:GMT
DTSTART:20261025T010000
END:STANDARD
BEGIN:DAYLIGHT
TZOFFSETFROM:+0000
TZOFFSETTO:+0100
TZNAME:BST
DTSTART:20270328T010000
END:DAYLIGHT
BEGIN:STANDARD
TZOFFSETFROM:+0100
TZOFFSETTO:+0000
TZNAME:GMT
DTSTART:20271031T010000
END:STANDARD
END:VTIMEZONE
BEGIN:VEVENT
DTSTART;TZID=Europe/London:20260803T100000
DTEND;TZID=Europe/London:20260803T123000
DTSTAMP:20260423T160240
CREATED:20251223T133852Z
LAST-MODIFIED:20251224T102214Z
UID:21956-1785751200-1785760200@can100.org
SUMMARY:Bid Writing and Finding Funders
DESCRIPTION:Securing funding is vital for the sustainability and growth of your charity. This training is designed to help UK charities master the art of bid writing and effectively find funders. This training will cover: \n\nIntroduction to Bid Writing: Understanding the basics and importance of well-crafted bids.\nIdentifying Funding Opportunities: How to find and select the right funders for your projects.\nCrafting Compelling Proposals: Techniques for writing clear\, persuasive\, and impactful funding applications.\nCommon Pitfalls: Avoid mistakes that can lead to rejection.\nUnderstanding Funder Perspectives: Insights into how funders assess applications.\nPractical Tips and Tools: Resources to enhance your bid writing skills and increase your success rates.\n\nBy the end of this training\, you’ll be equipped with a workbook and the knowledge and tools to write successful funding bids and identify the best funding opportunities for your organisation. \nBook your free place
URL:https://can100.org/event/bid-writing-and-finding-funders/
LOCATION:Kinson Community Centre\, Pelhams Park\, Millhams Road\, Bournemouth\, Dorset\, BH10 7LH\, United Kingdom
CATEGORIES:Online event,Training
ATTACH;FMTTYPE=image/jpeg:https://can100.org/wp-content/uploads/Bid-writing.jpg
END:VEVENT
END:VCALENDAR