BEGIN:VCALENDAR
VERSION:2.0
PRODID:-//Community Action Network - ECPv6.15.20//NONSGML v1.0//EN
CALSCALE:GREGORIAN
METHOD:PUBLISH
X-WR-CALNAME:Community Action Network
X-ORIGINAL-URL:https://can100.org
X-WR-CALDESC:Events for Community Action Network
REFRESH-INTERVAL;VALUE=DURATION:PT1H
X-Robots-Tag:noindex
X-PUBLISHED-TTL:PT1H
BEGIN:VTIMEZONE
TZID:Europe/London
BEGIN:DAYLIGHT
TZOFFSETFROM:+0000
TZOFFSETTO:+0100
TZNAME:BST
DTSTART:20250330T010000
END:DAYLIGHT
BEGIN:STANDARD
TZOFFSETFROM:+0100
TZOFFSETTO:+0000
TZNAME:GMT
DTSTART:20251026T010000
END:STANDARD
BEGIN:DAYLIGHT
TZOFFSETFROM:+0000
TZOFFSETTO:+0100
TZNAME:BST
DTSTART:20260329T010000
END:DAYLIGHT
BEGIN:STANDARD
TZOFFSETFROM:+0100
TZOFFSETTO:+0000
TZNAME:GMT
DTSTART:20261025T010000
END:STANDARD
BEGIN:DAYLIGHT
TZOFFSETFROM:+0000
TZOFFSETTO:+0100
TZNAME:BST
DTSTART:20270328T010000
END:DAYLIGHT
BEGIN:STANDARD
TZOFFSETFROM:+0100
TZOFFSETTO:+0000
TZNAME:GMT
DTSTART:20271031T010000
END:STANDARD
END:VTIMEZONE
BEGIN:VEVENT
DTSTART;TZID=Europe/London:20260528T110000
DTEND;TZID=Europe/London:20260528T150000
DTSTAMP:20260423T143646
CREATED:20260408T113259Z
LAST-MODIFIED:20260408T113259Z
UID:22609-1779966000-1779980400@can100.org
SUMMARY:Bournemouth Hospital Information Station
DESCRIPTION:Connect with community services\, discover volunteering opportunities\, or get support for your charity or community group. No need to book; just drop in. \nWe can help with: \n\nFinding volunteering roles\nBefriending\nSocial activities\nTransport services\nFood and finance\nAdvice for community groups & charities.
URL:https://can100.org/event/bournemouth-hospital-information-station/
LOCATION:The Dome\, Poole General Hospital\, Longfleet Road\, Poole\, Dorset\, BH15 2JB\, United Kingdom
CATEGORIES:Drop-in sessions,Search local events
ATTACH;FMTTYPE=image/jpeg:https://can100.org/wp-content/uploads/Bmouth-hospital-1.jpg
END:VEVENT
END:VCALENDAR