BEGIN:VCALENDAR
VERSION:2.0
PRODID:-//Community Action Network - ECPv6.15.20//NONSGML v1.0//EN
CALSCALE:GREGORIAN
METHOD:PUBLISH
X-WR-CALNAME:Community Action Network
X-ORIGINAL-URL:https://can100.org
X-WR-CALDESC:Events for Community Action Network
REFRESH-INTERVAL;VALUE=DURATION:PT1H
X-Robots-Tag:noindex
X-PUBLISHED-TTL:PT1H
BEGIN:VTIMEZONE
TZID:Europe/London
BEGIN:DAYLIGHT
TZOFFSETFROM:+0000
TZOFFSETTO:+0100
TZNAME:BST
DTSTART:20250330T010000
END:DAYLIGHT
BEGIN:STANDARD
TZOFFSETFROM:+0100
TZOFFSETTO:+0000
TZNAME:GMT
DTSTART:20251026T010000
END:STANDARD
BEGIN:DAYLIGHT
TZOFFSETFROM:+0000
TZOFFSETTO:+0100
TZNAME:BST
DTSTART:20260329T010000
END:DAYLIGHT
BEGIN:STANDARD
TZOFFSETFROM:+0100
TZOFFSETTO:+0000
TZNAME:GMT
DTSTART:20261025T010000
END:STANDARD
BEGIN:DAYLIGHT
TZOFFSETFROM:+0000
TZOFFSETTO:+0100
TZNAME:BST
DTSTART:20270328T010000
END:DAYLIGHT
BEGIN:STANDARD
TZOFFSETFROM:+0100
TZOFFSETTO:+0000
TZNAME:GMT
DTSTART:20271031T010000
END:STANDARD
END:VTIMEZONE
BEGIN:VEVENT
DTSTART;TZID=Europe/London:20260609T120000
DTEND;TZID=Europe/London:20260609T130000
DTSTAMP:20260423T143151
CREATED:20260128T153056Z
LAST-MODIFIED:20260415T072713Z
UID:22247-1781006400-1781010000@can100.org
SUMMARY:Creative Brainstorming Drop-in
DESCRIPTION:Join Pete and Emma from The Saltways for a relaxed\, idea-fuelled online drop-in designed to help you shape and refine your content plans. \nWhether you’re a charity looking to amplify your impact\, a small team juggling storytelling on limited time\, or simply feeling stuck on where to begin\, this session is your space to ask questions\, share ideas\, and get practical guidance from filmmakers who specialise in purpose-driven content. \nThere’s no formal presentation – just an open\, supportive Q&A where you can: \n\nBounce ideas around and explore fresh creative angles\nGet advice on story structure\, filming approaches\, or platform-specific content\nSense-check your plans for upcoming campaigns or events\nIdentify opportunities you may be overlooking\nLeave with renewed clarity and direction for your content strategy\n\nWhether you stay for 10 minutes or the full hour\, you’ll walk away with practical\, doable ideas that meet your organisation where it is. \nBook your free place
URL:https://can100.org/event/creative-brainstorming-drop-in/
LOCATION:Online
CATEGORIES:Online event,Training
ATTACH;FMTTYPE=image/jpeg:https://can100.org/wp-content/uploads/https___cdn.evbuc_.com_images_1174413993_421453896589_1_original.jpg
END:VEVENT
END:VCALENDAR