BEGIN:VCALENDAR
VERSION:2.0
PRODID:-//Community Action Network - ECPv6.15.20//NONSGML v1.0//EN
CALSCALE:GREGORIAN
METHOD:PUBLISH
X-WR-CALNAME:Community Action Network
X-ORIGINAL-URL:https://can100.org
X-WR-CALDESC:Events for Community Action Network
REFRESH-INTERVAL;VALUE=DURATION:PT1H
X-Robots-Tag:noindex
X-PUBLISHED-TTL:PT1H
BEGIN:VTIMEZONE
TZID:Europe/London
BEGIN:DAYLIGHT
TZOFFSETFROM:+0000
TZOFFSETTO:+0100
TZNAME:BST
DTSTART:20250330T010000
END:DAYLIGHT
BEGIN:STANDARD
TZOFFSETFROM:+0100
TZOFFSETTO:+0000
TZNAME:GMT
DTSTART:20251026T010000
END:STANDARD
BEGIN:DAYLIGHT
TZOFFSETFROM:+0000
TZOFFSETTO:+0100
TZNAME:BST
DTSTART:20260329T010000
END:DAYLIGHT
BEGIN:STANDARD
TZOFFSETFROM:+0100
TZOFFSETTO:+0000
TZNAME:GMT
DTSTART:20261025T010000
END:STANDARD
BEGIN:DAYLIGHT
TZOFFSETFROM:+0000
TZOFFSETTO:+0100
TZNAME:BST
DTSTART:20270328T010000
END:DAYLIGHT
BEGIN:STANDARD
TZOFFSETFROM:+0100
TZOFFSETTO:+0000
TZNAME:GMT
DTSTART:20271031T010000
END:STANDARD
END:VTIMEZONE
BEGIN:VEVENT
DTSTART;TZID=Europe/London:20260601T100000
DTEND;TZID=Europe/London:20260601T123000
DTSTAMP:20260423T143054
CREATED:20250714T124906Z
LAST-MODIFIED:20260407T102355Z
UID:20334-1780308000-1780317000@can100.org
SUMMARY:Developing a Budget
DESCRIPTION:Are you a voluntary organisation that hasn’t yet developed a budget? This is the course to help your organisation plan its finances\, create budgets\, and forecast cash flow. Budgeting for activities is similar to budgeting at home: you calculate your income and expenses to determine if you have enough. If you don’t\, you need to increase your income or reduce expenses. \nBudgeting will help you understand: \n\nExpenses: What you need to run your activities.\nIncome: Whether your current income is sufficient to continue your activities.\nCash Flow: Identifying periods where you may be short of cash.\n\nThis will help you determine how much money you need to raise to keep your organisation running smoothly and assess the sustainability of your work. The budgeting process also provides an opportunity to explore new fundraising methods and identify potential savings. \nThis training and workbook offer an overview of developing your budget\, and are suitable for newly emerging community groups. \nBook your free place
URL:https://can100.org/event/developing-a-budget/
LOCATION:Kinson Community Centre\, Pelhams Park\, Millhams Road\, Bournemouth\, Dorset\, BH10 7LH\, United Kingdom
CATEGORIES:Search local events,Search local training opportunities,Training
ATTACH;FMTTYPE=image/jpeg:https://can100.org/wp-content/uploads/Developing-your-Budget.jpg
END:VEVENT
END:VCALENDAR