BEGIN:VCALENDAR
VERSION:2.0
PRODID:-//Community Action Network - ECPv6.15.20//NONSGML v1.0//EN
CALSCALE:GREGORIAN
METHOD:PUBLISH
X-WR-CALNAME:Community Action Network
X-ORIGINAL-URL:https://can100.org
X-WR-CALDESC:Events for Community Action Network
REFRESH-INTERVAL;VALUE=DURATION:PT1H
X-Robots-Tag:noindex
X-PUBLISHED-TTL:PT1H
BEGIN:VTIMEZONE
TZID:Europe/London
BEGIN:DAYLIGHT
TZOFFSETFROM:+0000
TZOFFSETTO:+0100
TZNAME:BST
DTSTART:20250330T010000
END:DAYLIGHT
BEGIN:STANDARD
TZOFFSETFROM:+0100
TZOFFSETTO:+0000
TZNAME:GMT
DTSTART:20251026T010000
END:STANDARD
BEGIN:DAYLIGHT
TZOFFSETFROM:+0000
TZOFFSETTO:+0100
TZNAME:BST
DTSTART:20260329T010000
END:DAYLIGHT
BEGIN:STANDARD
TZOFFSETFROM:+0100
TZOFFSETTO:+0000
TZNAME:GMT
DTSTART:20261025T010000
END:STANDARD
BEGIN:DAYLIGHT
TZOFFSETFROM:+0000
TZOFFSETTO:+0100
TZNAME:BST
DTSTART:20270328T010000
END:DAYLIGHT
BEGIN:STANDARD
TZOFFSETFROM:+0100
TZOFFSETTO:+0000
TZNAME:GMT
DTSTART:20271031T010000
END:STANDARD
END:VTIMEZONE
BEGIN:VEVENT
DTSTART;TZID=Europe/London:20260720T180000
DTEND;TZID=Europe/London:20260720T200000
DTSTAMP:20260423T144351
CREATED:20251223T133537Z
LAST-MODIFIED:20260121T102305Z
UID:21953-1784570400-1784577600@can100.org
SUMMARY:Developing Policies & Procedures  
DESCRIPTION:Understanding what policies and procedures are\, and choosing the right ones required by law for your organisation\, can be difficult. This bite-sized training is designed to help your organisation develop policies and procedures to meet the minimum legal requirements. \nThis training has been designed for VCS organisations and groups currently without\, or who are starting to develop\, their policies and procedures.  The training and the asset-based workbook will enable you to start\, review or develop the specific policies needed to manage risk for your organisation. \nTraining will cover: \n\nWhat are policies and procedures\, and why do you need them?\nTypes of policies and procedures\nTypes of Insurance you might need\nYour legal responsibilities\nHow will you be accountable for your organisation?\nHow will you put your policies into practice?\nDeveloping systems that enable your organisation to run smoothly.\n\nBy completing this training\, you will be on your way to developing the systems to help you effectively manage risks in your organisation and service delivery. \nBook your free place\n 
URL:https://can100.org/event/developing-policies-procedures/
LOCATION:Online event
CATEGORIES:Training
ATTACH;FMTTYPE=image/jpeg:https://can100.org/wp-content/uploads/Policies.jpg
END:VEVENT
END:VCALENDAR