BEGIN:VCALENDAR
VERSION:2.0
PRODID:-//Community Action Network - ECPv6.15.20//NONSGML v1.0//EN
CALSCALE:GREGORIAN
METHOD:PUBLISH
X-WR-CALNAME:Community Action Network
X-ORIGINAL-URL:https://can100.org
X-WR-CALDESC:Events for Community Action Network
REFRESH-INTERVAL;VALUE=DURATION:PT1H
X-Robots-Tag:noindex
X-PUBLISHED-TTL:PT1H
BEGIN:VTIMEZONE
TZID:Europe/London
BEGIN:DAYLIGHT
TZOFFSETFROM:+0000
TZOFFSETTO:+0100
TZNAME:BST
DTSTART:20250330T010000
END:DAYLIGHT
BEGIN:STANDARD
TZOFFSETFROM:+0100
TZOFFSETTO:+0000
TZNAME:GMT
DTSTART:20251026T010000
END:STANDARD
BEGIN:DAYLIGHT
TZOFFSETFROM:+0000
TZOFFSETTO:+0100
TZNAME:BST
DTSTART:20260329T010000
END:DAYLIGHT
BEGIN:STANDARD
TZOFFSETFROM:+0100
TZOFFSETTO:+0000
TZNAME:GMT
DTSTART:20261025T010000
END:STANDARD
BEGIN:DAYLIGHT
TZOFFSETFROM:+0000
TZOFFSETTO:+0100
TZNAME:BST
DTSTART:20270328T010000
END:DAYLIGHT
BEGIN:STANDARD
TZOFFSETFROM:+0100
TZOFFSETTO:+0000
TZNAME:GMT
DTSTART:20271031T010000
END:STANDARD
END:VTIMEZONE
BEGIN:VEVENT
DTSTART;TZID=Europe/London:20260423T120000
DTEND;TZID=Europe/London:20260423T140000
DTSTAMP:20260423T143116
CREATED:20241010T120835Z
LAST-MODIFIED:20260408T112154Z
UID:17243-1776945600-1776952800@can100.org
SUMMARY:Henry Brown Centre Information Station
DESCRIPTION:Our friendly team warmly welcomes people and aims to help them stay well and independent at home. Anyone can chat with us about what support may be available to them\, someone they know or care for in their local community. There is no need to book; just drop in! Find out about: \n\nTransport\nBefriending\nFood and finances\nHelp at home\nSocial activities\nAnd more!\n\nWe look forward to welcoming you.
URL:https://can100.org/event/henry-brown-centre/
LOCATION:The Henry Brown Centre\, Cunningham Crescent\, West Howe\, BH11 8DU\, United Kingdom
CATEGORIES:Drop-in sessions
ATTACH;FMTTYPE=image/jpeg:https://can100.org/wp-content/uploads/Henry-Brown.jpg
END:VEVENT
END:VCALENDAR