BEGIN:VCALENDAR
VERSION:2.0
PRODID:-//Community Action Network - ECPv6.15.20//NONSGML v1.0//EN
CALSCALE:GREGORIAN
METHOD:PUBLISH
X-WR-CALNAME:Community Action Network
X-ORIGINAL-URL:https://can100.org
X-WR-CALDESC:Events for Community Action Network
REFRESH-INTERVAL;VALUE=DURATION:PT1H
X-Robots-Tag:noindex
X-PUBLISHED-TTL:PT1H
BEGIN:VTIMEZONE
TZID:Europe/London
BEGIN:DAYLIGHT
TZOFFSETFROM:+0000
TZOFFSETTO:+0100
TZNAME:BST
DTSTART:20250330T010000
END:DAYLIGHT
BEGIN:STANDARD
TZOFFSETFROM:+0100
TZOFFSETTO:+0000
TZNAME:GMT
DTSTART:20251026T010000
END:STANDARD
BEGIN:DAYLIGHT
TZOFFSETFROM:+0000
TZOFFSETTO:+0100
TZNAME:BST
DTSTART:20260329T010000
END:DAYLIGHT
BEGIN:STANDARD
TZOFFSETFROM:+0100
TZOFFSETTO:+0000
TZNAME:GMT
DTSTART:20261025T010000
END:STANDARD
BEGIN:DAYLIGHT
TZOFFSETFROM:+0000
TZOFFSETTO:+0100
TZNAME:BST
DTSTART:20270328T010000
END:DAYLIGHT
BEGIN:STANDARD
TZOFFSETFROM:+0100
TZOFFSETTO:+0000
TZNAME:GMT
DTSTART:20271031T010000
END:STANDARD
END:VTIMEZONE
BEGIN:VEVENT
DTSTART;TZID=Europe/London:20260625T140000
DTEND;TZID=Europe/London:20260625T153000
DTSTAMP:20260423T143519
CREATED:20260128T153246Z
LAST-MODIFIED:20260415T073146Z
UID:22250-1782396000-1782401400@can100.org
SUMMARY:Make video content using your phone
DESCRIPTION:Join The Saltways team in this workshop for charities to learn how to create effective & high quality content on your phone.\n\n\n\nDoes your charity want to start creating video content but doesn’t know where to start? \n\nLearn how to plan your films to get the best results possible.\nLearn technical tips on how to improve your footage and sound.\nHave an introduction into editing and how to build a campaign around your film.\n\nThere will also be a chance to ask questions. \n\n\n\n\nBook your free place
URL:https://can100.org/event/how-to-create-effective-video-content-using-your-phone-for-charities-4/
LOCATION:Online
CATEGORIES:Online event,Training
ATTACH;FMTTYPE=image/jpeg:https://can100.org/wp-content/uploads/https___cdn.evbuc_.com_images_1172806071_421453896589_1_original.jpg
END:VEVENT
END:VCALENDAR