BEGIN:VCALENDAR
VERSION:2.0
PRODID:-//Community Action Network - ECPv6.15.20//NONSGML v1.0//EN
CALSCALE:GREGORIAN
METHOD:PUBLISH
X-WR-CALNAME:Community Action Network
X-ORIGINAL-URL:https://can100.org
X-WR-CALDESC:Events for Community Action Network
REFRESH-INTERVAL;VALUE=DURATION:PT1H
X-Robots-Tag:noindex
X-PUBLISHED-TTL:PT1H
BEGIN:VTIMEZONE
TZID:Europe/London
BEGIN:DAYLIGHT
TZOFFSETFROM:+0000
TZOFFSETTO:+0100
TZNAME:BST
DTSTART:20250330T010000
END:DAYLIGHT
BEGIN:STANDARD
TZOFFSETFROM:+0100
TZOFFSETTO:+0000
TZNAME:GMT
DTSTART:20251026T010000
END:STANDARD
BEGIN:DAYLIGHT
TZOFFSETFROM:+0000
TZOFFSETTO:+0100
TZNAME:BST
DTSTART:20260329T010000
END:DAYLIGHT
BEGIN:STANDARD
TZOFFSETFROM:+0100
TZOFFSETTO:+0000
TZNAME:GMT
DTSTART:20261025T010000
END:STANDARD
BEGIN:DAYLIGHT
TZOFFSETFROM:+0000
TZOFFSETTO:+0100
TZNAME:BST
DTSTART:20270328T010000
END:DAYLIGHT
BEGIN:STANDARD
TZOFFSETFROM:+0100
TZOFFSETTO:+0000
TZNAME:GMT
DTSTART:20271031T010000
END:STANDARD
END:VTIMEZONE
BEGIN:VEVENT
DTSTART;TZID=Europe/London:20260928T100000
DTEND;TZID=Europe/London:20260928T123000
DTSTAMP:20260423T143232
CREATED:20251223T142727Z
LAST-MODIFIED:20260313T143300Z
UID:21967-1790589600-1790598600@can100.org
SUMMARY:Measuring Outcomes and Impact
DESCRIPTION:Understanding and demonstrating the impact of your organisation’s work is crucial for securing funding\, engaging stakeholders\, and improving your services. This bite-sized training is designed to help you effectively measure your outcomes and impact. This training will cover: \n\nIntroduction to Impact Measurement: Understanding the difference between outputs\, outcomes\, and impact.\nSetting Clear Objectives: Defining what success looks like for your organisation.\nData Collection Methods: Practical guidance on gathering and analysing data.\nEvaluation Techniques: Tools and strategies for assessing your work.\nReporting and Communication: How to present your findings to stakeholders.\nUsing Impact Data: Leveraging insights to improve your services and demonstrate value.\n\nBy the end of this training\, along with a practical workbook\, you’ll be equipped with the knowledge and tools to create an effective impact measurement framework\, helping you to showcase the difference your charity makes. \nBooking coming soon \nThis training is held in person at Kinson Community Centre\, Pelhams Park\, Millhams Road\, Bournemouth BH10 7LH. There is parking available\, and the site is fully accessible. \nBook your free place
URL:https://can100.org/event/measuring-outcomes-and-impact-2/
LOCATION:Kinson Community Centre\, Pelhams Park\, Millhams Road\, Bournemouth\, Dorset\, BH10 7LH\, United Kingdom
CATEGORIES:Training
ATTACH;FMTTYPE=image/jpeg:https://can100.org/wp-content/uploads/Outcomes-and-Impact.jpg
END:VEVENT
END:VCALENDAR