BEGIN:VCALENDAR
VERSION:2.0
PRODID:-//Community Action Network - ECPv6.15.20//NONSGML v1.0//EN
CALSCALE:GREGORIAN
METHOD:PUBLISH
X-WR-CALNAME:Community Action Network
X-ORIGINAL-URL:https://can100.org
X-WR-CALDESC:Events for Community Action Network
REFRESH-INTERVAL;VALUE=DURATION:PT1H
X-Robots-Tag:noindex
X-PUBLISHED-TTL:PT1H
BEGIN:VTIMEZONE
TZID:Europe/London
BEGIN:DAYLIGHT
TZOFFSETFROM:+0000
TZOFFSETTO:+0100
TZNAME:BST
DTSTART:20250330T010000
END:DAYLIGHT
BEGIN:STANDARD
TZOFFSETFROM:+0100
TZOFFSETTO:+0000
TZNAME:GMT
DTSTART:20251026T010000
END:STANDARD
BEGIN:DAYLIGHT
TZOFFSETFROM:+0000
TZOFFSETTO:+0100
TZNAME:BST
DTSTART:20260329T010000
END:DAYLIGHT
BEGIN:STANDARD
TZOFFSETFROM:+0100
TZOFFSETTO:+0000
TZNAME:GMT
DTSTART:20261025T010000
END:STANDARD
BEGIN:DAYLIGHT
TZOFFSETFROM:+0000
TZOFFSETTO:+0100
TZNAME:BST
DTSTART:20270328T010000
END:DAYLIGHT
BEGIN:STANDARD
TZOFFSETFROM:+0100
TZOFFSETTO:+0000
TZNAME:GMT
DTSTART:20271031T010000
END:STANDARD
END:VTIMEZONE
BEGIN:VEVENT
DTSTART;TZID=Europe/London:20260506T100000
DTEND;TZID=Europe/London:20260506T110000
DTSTAMP:20260423T154107
CREATED:20251105T102718Z
LAST-MODIFIED:20260204T155840Z
UID:21171-1778061600-1778065200@can100.org
SUMMARY:Network for Supporting Men
DESCRIPTION:If your work includes supporting men in any way\, please join us at our next online network. We share our news\, concerns\, and offer peer support and advice. \nBook your free place
URL:https://can100.org/event/network-for-supporting-men/
LOCATION:Online event
CATEGORIES:Networks,Online event
ATTACH;FMTTYPE=image/jpeg:https://can100.org/wp-content/uploads/Men.jpg
END:VEVENT
END:VCALENDAR