BEGIN:VCALENDAR
VERSION:2.0
PRODID:-//Community Action Network - ECPv6.15.20//NONSGML v1.0//EN
CALSCALE:GREGORIAN
METHOD:PUBLISH
X-WR-CALNAME:Community Action Network
X-ORIGINAL-URL:https://can100.org
X-WR-CALDESC:Events for Community Action Network
REFRESH-INTERVAL;VALUE=DURATION:PT1H
X-Robots-Tag:noindex
X-PUBLISHED-TTL:PT1H
BEGIN:VTIMEZONE
TZID:Europe/London
BEGIN:DAYLIGHT
TZOFFSETFROM:+0000
TZOFFSETTO:+0100
TZNAME:BST
DTSTART:20250330T010000
END:DAYLIGHT
BEGIN:STANDARD
TZOFFSETFROM:+0100
TZOFFSETTO:+0000
TZNAME:GMT
DTSTART:20251026T010000
END:STANDARD
BEGIN:DAYLIGHT
TZOFFSETFROM:+0000
TZOFFSETTO:+0100
TZNAME:BST
DTSTART:20260329T010000
END:DAYLIGHT
BEGIN:STANDARD
TZOFFSETFROM:+0100
TZOFFSETTO:+0000
TZNAME:GMT
DTSTART:20261025T010000
END:STANDARD
BEGIN:DAYLIGHT
TZOFFSETFROM:+0000
TZOFFSETTO:+0100
TZNAME:BST
DTSTART:20270328T010000
END:DAYLIGHT
BEGIN:STANDARD
TZOFFSETFROM:+0100
TZOFFSETTO:+0000
TZNAME:GMT
DTSTART:20271031T010000
END:STANDARD
END:VTIMEZONE
BEGIN:VEVENT
DTSTART;TZID=Europe/London:20260424T100000
DTEND;TZID=Europe/London:20260424T130000
DTSTAMP:20260423T143419
CREATED:20260330T094624Z
LAST-MODIFIED:20260330T094624Z
UID:22567-1777024800-1777035600@can100.org
SUMMARY:Southbourne Information Station
DESCRIPTION:Connect with community services\, discover volunteering opportunities\, or get support for your charity or community group. No need to book; just drop in. \nWe can help with: \n\nFinding volunteering roles\nBefriending\nSocial activities\nTransport services\nFood and finance\nAdvice for community groups & charities.
URL:https://can100.org/event/southbourne-information-station-2/
LOCATION:Southbourne Library\, 118 Seabourne Rd\, Bournemouth BH5 2HY\, 118 Seabourne Rd\, Bournemouth\, BH5 2HY
CATEGORIES:Drop-in sessions,Search local events
ATTACH;FMTTYPE=image/jpeg:https://can100.org/wp-content/uploads/SoBo.jpg
END:VEVENT
END:VCALENDAR