BEGIN:VCALENDAR
VERSION:2.0
PRODID:-//Community Action Network - ECPv6.15.20//NONSGML v1.0//EN
CALSCALE:GREGORIAN
METHOD:PUBLISH
X-WR-CALNAME:Community Action Network
X-ORIGINAL-URL:https://can100.org
X-WR-CALDESC:Events for Community Action Network
REFRESH-INTERVAL;VALUE=DURATION:PT1H
X-Robots-Tag:noindex
X-PUBLISHED-TTL:PT1H
BEGIN:VTIMEZONE
TZID:Europe/London
BEGIN:DAYLIGHT
TZOFFSETFROM:+0000
TZOFFSETTO:+0100
TZNAME:BST
DTSTART:20250330T010000
END:DAYLIGHT
BEGIN:STANDARD
TZOFFSETFROM:+0100
TZOFFSETTO:+0000
TZNAME:GMT
DTSTART:20251026T010000
END:STANDARD
BEGIN:DAYLIGHT
TZOFFSETFROM:+0000
TZOFFSETTO:+0100
TZNAME:BST
DTSTART:20260329T010000
END:DAYLIGHT
BEGIN:STANDARD
TZOFFSETFROM:+0100
TZOFFSETTO:+0000
TZNAME:GMT
DTSTART:20261025T010000
END:STANDARD
BEGIN:DAYLIGHT
TZOFFSETFROM:+0000
TZOFFSETTO:+0100
TZNAME:BST
DTSTART:20270328T010000
END:DAYLIGHT
BEGIN:STANDARD
TZOFFSETFROM:+0100
TZOFFSETTO:+0000
TZNAME:GMT
DTSTART:20271031T010000
END:STANDARD
END:VTIMEZONE
BEGIN:VEVENT
DTSTART;TZID=Europe/London:20260615T180000
DTEND;TZID=Europe/London:20260615T200000
DTSTAMP:20260423T143353
CREATED:20251223T131926Z
LAST-MODIFIED:20260121T102227Z
UID:21943-1781546400-1781553600@can100.org
SUMMARY:Trustee Roles\, Responsibilities & Recruitment 
DESCRIPTION:This training is designed to empower trustees with the essential knowledge and skills needed to govern and lead your charity effectively. Trustees play a crucial role in ensuring the success and integrity of charitable organisations\, and this training aims to provide a solid foundation for fulfilling these responsibilities. So\, whether you are an existing trustee or new to the role\, this training is for you: \nIn this course\, you will: \n\nUnderstand trustee roles: Learn about the key functions and expectations of trustees\, as well as their contributions to the overall governance of the charity.\nExplore responsibilities and legal duties: Dive into the legal framework governing charities\, including compliance with charity law and best practices for responsible management.\nDevelop recruitment strategies: Discover methods for attracting and selecting the right trustees to build a diverse board.\n\nThis training\, along with the bite-sized workbook\, will give you the tools and insights necessary to make informed decisions\, manage resources responsibly\, and ensure your charity operates with transparency and accountability. Let’s embark on this journey together to strengthen your charity’s governance and maximise its impact. \nBook your free place\n 
URL:https://can100.org/event/trustee-roles-responsibilities-recruitment/
LOCATION:Online
CATEGORIES:Online event,Training
ATTACH;FMTTYPE=image/jpeg:https://can100.org/wp-content/uploads/Trustees-Roles-Responsibilities-Recruitment.jpg
ORGANIZER;CN="Community Action Network":MAILTO:hello@can100.org
END:VEVENT
END:VCALENDAR