BEGIN:VCALENDAR
VERSION:2.0
PRODID:-//Community Action Network - ECPv6.15.20//NONSGML v1.0//EN
CALSCALE:GREGORIAN
METHOD:PUBLISH
X-WR-CALNAME:Community Action Network
X-ORIGINAL-URL:https://can100.org
X-WR-CALDESC:Events for Community Action Network
REFRESH-INTERVAL;VALUE=DURATION:PT1H
X-Robots-Tag:noindex
X-PUBLISHED-TTL:PT1H
BEGIN:VTIMEZONE
TZID:Europe/London
BEGIN:DAYLIGHT
TZOFFSETFROM:+0000
TZOFFSETTO:+0100
TZNAME:BST
DTSTART:20250330T010000
END:DAYLIGHT
BEGIN:STANDARD
TZOFFSETFROM:+0100
TZOFFSETTO:+0000
TZNAME:GMT
DTSTART:20251026T010000
END:STANDARD
BEGIN:DAYLIGHT
TZOFFSETFROM:+0000
TZOFFSETTO:+0100
TZNAME:BST
DTSTART:20260329T010000
END:DAYLIGHT
BEGIN:STANDARD
TZOFFSETFROM:+0100
TZOFFSETTO:+0000
TZNAME:GMT
DTSTART:20261025T010000
END:STANDARD
BEGIN:DAYLIGHT
TZOFFSETFROM:+0000
TZOFFSETTO:+0100
TZNAME:BST
DTSTART:20270328T010000
END:DAYLIGHT
BEGIN:STANDARD
TZOFFSETFROM:+0100
TZOFFSETTO:+0000
TZNAME:GMT
DTSTART:20271031T010000
END:STANDARD
END:VTIMEZONE
BEGIN:VEVENT
DTSTART;TZID=Europe/London:20260914T180000
DTEND;TZID=Europe/London:20260914T200000
DTSTAMP:20260423T143148
CREATED:20251223T134549Z
LAST-MODIFIED:20260121T102517Z
UID:21960-1789408800-1789416000@can100.org
SUMMARY:Volunteer Management  
DESCRIPTION:The environment and relationship your organisation develops with its volunteers should be a rewarding mutual experience for both parties. This training and asset-based workbook will cover: \n\nIntroduction to volunteering\nGathering information\nPolicies and procedures\nVolunteer management\, supervision and training.\nVolunteers and the law\nThanking volunteers\nVolunteer recruitment.\n\nBy the end of this training\, you will understand best practices in managing your volunteers\, with tools and resources to develop a framework of support. This is a great introduction to the subject\, and can lead to more in-depth training on specific areas of volunteer management with CAN. \nBook your free place
URL:https://can100.org/event/volunteer-management-2/
LOCATION:Online
CATEGORIES:Online event,Training
ATTACH;FMTTYPE=image/jpeg:https://can100.org/wp-content/uploads/good-practice-in-volunteer-management.jpg
END:VEVENT
END:VCALENDAR